BEGIN:VCALENDAR
VERSION:2.0
PRODID:-//Conservative Dating - ECPv6.2.6//NONSGML v1.0//EN
CALSCALE:GREGORIAN
METHOD:PUBLISH
X-ORIGINAL-URL:https://www.conservativedating.com
X-WR-CALDESC:Events for Conservative Dating
REFRESH-INTERVAL;VALUE=DURATION:PT1H
X-Robots-Tag:noindex
X-PUBLISHED-TTL:PT1H
BEGIN:VTIMEZONE
TZID:UTC
BEGIN:STANDARD
TZOFFSETFROM:+0000
TZOFFSETTO:+0000
TZNAME:UTC
DTSTART:20200101T000000
END:STANDARD
END:VTIMEZONE
BEGIN:VEVENT
DTSTART;TZID=UTC:20201115T210000
DTEND;TZID=UTC:20201115T233000
DTSTAMP:20260421T032332
CREATED:20201110T191117Z
LAST-MODIFIED:20201116T205934Z
UID:2532-1605474000-1605483000@www.conservativedating.com
SUMMARY:Patriot Member Dinner
DESCRIPTION:We are having a Dinner Sunday Night 9pm-11:30pm. Gold Members Only.
URL:https://www.conservativedating.com/event/patriot-member-dinner/
CATEGORIES:Gold Members
ATTACH;FMTTYPE=image/jpeg:https://www.conservativedating.com/wp-content/uploads/2020/11/dinner-out.jpg
END:VEVENT
END:VCALENDAR